BEGIN:VCALENDAR
VERSION:2.0
PRODID:-//The Edmonton Rugby Football Club - Pirates Rugby - ECPv4.6.2//NONSGML v1.0//EN
CALSCALE:GREGORIAN
METHOD:PUBLISH
X-WR-CALNAME:The Edmonton Rugby Football Club - Pirates Rugby
X-ORIGINAL-URL:http://ec2-34-213-199-134.us-west-2.compute.amazonaws.com
X-WR-CALDESC:Events for The Edmonton Rugby Football Club - Pirates Rugby
BEGIN:VEVENT
DTSTART;TZID=UTC+0:20210602T180000
DTEND;TZID=UTC+0:20210602T190000
DTSTAMP:20260424T082051
CREATED:20210530T155838Z
LAST-MODIFIED:20210601T174017Z
UID:2373-1622656800-1622660400@ec2-34-213-199-134.us-west-2.compute.amazonaws.com
SUMMARY:Minis U9 and U11 Training - Postponed
DESCRIPTION:Health Check In prior to arrival required \nHead Coach – Katherine Poshtar \nCohorts of 10 maximum \n
URL:http://ec2-34-213-199-134.us-west-2.compute.amazonaws.com/event/minis-u9-and-u11-training/
END:VEVENT
END:VCALENDAR